BEGIN:VCALENDAR
VERSION:2.0
PRODID:-//ChurchDev//Events//EN
CALSCALE:GREGORIAN
METHOD:PUBLISH
BEGIN:VEVENT
UID:7511-20260607@www.cdoassemblyofgod.com
SUMMARY:Annual Cake &#038\; Dessert Auction
DTSTART;VALUE=DATE:20260607
DTEND;VALUE=DATE:20260608
DESCRIPTION:Sign up at the Welcome Center to submit a cake or dessert.  All proceeds benefit Kids and Youth Camps\\n\\nhttps://www.cdoassemblyofgod.com/events/annual-cake-dessert-auction/
LOCATION:2950 W. Lambert Ln Tucson\, AZ 85742
URL:https://www.cdoassemblyofgod.com/events/annual-cake-dessert-auction/
DTSTAMP:20260419T220415Z
END:VEVENT
END:VCALENDAR
