BEGIN:VCALENDAR
VERSION:2.0
PRODID:-//ChurchDev//Events//EN
CALSCALE:GREGORIAN
METHOD:PUBLISH
BEGIN:VEVENT
UID:7510-20260517@www.cdoassemblyofgod.com
SUMMARY:Graduate Recognition Sunday
DTSTART:20260517T171500Z
DTEND:20260517T181500Z
DESCRIPTION:We will be honoring our Eighth Grade\, High School and College Graduates in today&#8217\;s service.  Please bring photos by May 3rd for the Video Presentation.\\n8th Grade: 10-15 Photos\\nHigh School: 20-30 Photos\\nCollege: 20 &#8211\; 30 Photos\\n\\nhttps://www.cdoassemblyofgod.com/events/graduate-recognition-sunday/
LOCATION:2950 W. Lambert Ln Tucson\, AZ 85742
URL:https://www.cdoassemblyofgod.com/events/graduate-recognition-sunday/
DTSTAMP:20260419T214548Z
END:VEVENT
END:VCALENDAR
