BEGIN:VCALENDAR
VERSION:2.0
PRODID:-//ChurchDev//Events//EN
CALSCALE:GREGORIAN
METHOD:PUBLISH
BEGIN:VEVENT
UID:7509-20260510@www.cdoassemblyofgod.com
SUMMARY:Muffins With Mom
DTSTART:20260510T153000Z
DTEND:20260510T163000Z
DESCRIPTION:Mother&#8217\;s Day Breakfast featuring Muffins\, Breakfast Casserole\, Fruit\, Juice and Milk. Sign up at the Welcome Center.  All proceeds go to Speed-The-Light\\n\\nhttps://www.cdoassemblyofgod.com/events/muffins-with-mom/
LOCATION:2950 W. Lambert Ln Tucson\, AZ 85742
URL:https://www.cdoassemblyofgod.com/events/muffins-with-mom/
DTSTAMP:20260419T220415Z
END:VEVENT
END:VCALENDAR
