BEGIN:VCALENDAR
VERSION:2.0
PRODID:-//ChurchDev//Events//EN
CALSCALE:GREGORIAN
METHOD:PUBLISH
BEGIN:VEVENT
UID:7504-20260418@www.cdoassemblyofgod.com
SUMMARY:America Reads The Bible (National Event)
DTSTART;VALUE=DATE:20260418
DTEND;VALUE=DATE:20260419
DESCRIPTION:ONE WEEK. ONE NATION. ONE BOOK.\\n\\nChristians Engaged invites the nation to participate in a historic event in Washington\, D.C. America Reads the Bible—a week-long Bible-reading gathering featuring national leaders from every sphere of influence\, streamed live to the nation.\\n\\nHeld in celebration of America’s 250th birthday\, this event calls our nation back to the foundation of God’s Word. Visit AmericaReadsTheBible.com to join in person or online.\\n\\nApril 18-25\, 2026\\nMuseum of the B...\\n\\nhttps://www.cdoassemblyofgod.com/events/america-reads-the-bible-national-event/
LOCATION:2950 W. Lambert Ln Tucson\, AZ 85742
URL:https://www.cdoassemblyofgod.com/events/america-reads-the-bible-national-event/
DTSTAMP:20260419T200948Z
END:VEVENT
END:VCALENDAR
