BEGIN:VCALENDAR
VERSION:2.0
PRODID:-//ChurchDev//Events//EN
CALSCALE:GREGORIAN
METHOD:PUBLISH
BEGIN:VEVENT
UID:7233-20260628@www.cdoassemblyofgod.com
SUMMARY:Kids Camp
DTSTART;VALUE=DATE:20260628
DTEND;VALUE=DATE:20260629
DESCRIPTION:https://www.cdoassemblyofgod.com/events/kids-camp/
LOCATION:2950 W. Lambert Ln Tucson\, AZ 85742
URL:https://www.cdoassemblyofgod.com/events/kids-camp/
DTSTAMP:20260419T220328Z
END:VEVENT
END:VCALENDAR
